BEGIN:VCALENDAR
VERSION:2.0
PRODID:-//wp-events-plugin.com//7.2.3.1//EN
BEGIN:VEVENT
UID:4200@randwijker.nl
DTSTART:20251101T150000Z
DTEND:20251101T181500Z
DTSTAMP:20250922T202635Z
URL:https://randwijker.nl/events/veteranen-overbetuwe-middag-avond-promo/
SUMMARY:Veteranen Overbetuwe (promo schieten)
DESCRIPTION:
LOCATION:Kleine horecazaal\, De Haar\, Randwijk\, Nederland
X-APPLE-STRUCTURED-LOCATION;VALUE=URI;X-ADDRESS=De Haar\, Randwijk\, Nederl
 and;X-APPLE-RADIUS=100;X-TITLE=Kleine horecazaal:geo:0,0
END:VEVENT
END:VCALENDAR