BEGIN:VCALENDAR
VERSION:2.0
PRODID:-//wp-events-plugin.com//7.2.3.1//EN
BEGIN:VEVENT
UID:3422@randwijker.nl
DTSTART:20250124T193000Z
DTEND:20250124T223000Z
DTSTAMP:20251115T082407Z
URL:https://randwijker.nl/events/training-s-v-de-treffers-2025-01-24/
SUMMARY:Training S.V. de Treffers
DESCRIPTION:
END:VEVENT
END:VCALENDAR