BEGIN:VCALENDAR
VERSION:2.0
PRODID:-//wp-events-plugin.com//7.2.3.1//EN
BEGIN:VEVENT
UID:4205@randwijker.nl
DTSTART:20250923T141500Z
DTEND:20250923T180000Z
DTSTAMP:20250917T094459Z
URL:https://randwijker.nl/events/rvc-vergadering-woningstichting-4/
SUMMARY:RvC vergadering Woningstichting
DESCRIPTION:
LOCATION:Kleine horecazaal\, De Haar\, Randwijk\, Nederland
X-APPLE-STRUCTURED-LOCATION;VALUE=URI;X-ADDRESS=De Haar\, Randwijk\, Nederl
 and;X-APPLE-RADIUS=100;X-TITLE=Kleine horecazaal:geo:0,0
END:VEVENT
END:VCALENDAR