BEGIN:VCALENDAR
VERSION:2.0
PRODID:-//wp-events-plugin.com//7.2.3.1//EN
BEGIN:VEVENT
UID:775@randwijker.nl
DTSTART:20220207T190000Z
DTEND:20220207T220000Z
DTSTAMP:20220202T213346Z
URL:https://randwijker.nl/events/randwijkse-schrijfavond-5/
SUMMARY:RANDWIJKSE SCHRIJFAVOND
DESCRIPTION:
LOCATION:Kleine horecazaal\, De Haar\, Randwijk\, Nederland
X-APPLE-STRUCTURED-LOCATION;VALUE=URI;X-ADDRESS=De Haar\, Randwijk\, Nederl
 and;X-APPLE-RADIUS=100;X-TITLE=Kleine horecazaal:geo:0,0
END:VEVENT
END:VCALENDAR