BEGIN:VCALENDAR
VERSION:2.0
PRODID:-//wp-events-plugin.com//7.2.3.1//EN
BEGIN:VEVENT
UID:4192@randwijker.nl
DTSTART:20250916T123000Z
DTEND:20250916T163000Z
DTSTAMP:20250818T134728Z
URL:https://randwijker.nl/events/project-zorgzame-buurten/
SUMMARY:Project Zorgzame Buurten
DESCRIPTION:
LOCATION:Grote horecazaal De Haar\, Bredeweg\, Randwijk\, 6668AS\, Nederlan
 d
X-APPLE-STRUCTURED-LOCATION;VALUE=URI;X-ADDRESS=Bredeweg\, Randwijk\, 6668A
 S\, Nederland;X-APPLE-RADIUS=100;X-TITLE=Grote horecazaal De Haar:geo:0,0
END:VEVENT
END:VCALENDAR