BEGIN:VCALENDAR
VERSION:2.0
PRODID:-//wp-events-plugin.com//7.2.3.1//EN
BEGIN:VEVENT
UID:1210@randwijker.nl
DTSTART:20220627T190000Z
DTEND:20220627T220000Z
DTSTAMP:20220622T171619Z
URL:https://randwijker.nl/events/p-v-de-lingebode/
SUMMARY:P.V. de Lingebode
DESCRIPTION:
END:VEVENT
END:VCALENDAR