BEGIN:VCALENDAR
VERSION:2.0
PRODID:-//wp-events-plugin.com//7.2.3.1//EN
BEGIN:VEVENT
UID:1211@randwijker.nl
DTSTART:20220628T190000Z
DTEND:20220628T220000Z
DTSTAMP:20220622T171640Z
URL:https://randwijker.nl/events/p-v-de-lingebode-2/
SUMMARY:P.V. de Lingebode
DESCRIPTION:
END:VEVENT
END:VCALENDAR