BEGIN:VCALENDAR
VERSION:2.0
PRODID:-//wp-events-plugin.com//7.2.3.1//EN
BEGIN:VEVENT
UID:4187@randwijker.nl
DTSTART:20251005T100000Z
DTEND:20251005T140000Z
DTSTAMP:20250804T070719Z
URL:https://randwijker.nl/events/ok-divers-kleine-zaal-vergaderruimte/
SUMMARY:OK Divers (kleine zaal +vergaderruimte)
DESCRIPTION:
LOCATION:Kleine horecazaal\, De Haar\, Randwijk\, Nederland
X-APPLE-STRUCTURED-LOCATION;VALUE=URI;X-ADDRESS=De Haar\, Randwijk\, Nederl
 and;X-APPLE-RADIUS=100;X-TITLE=Kleine horecazaal:geo:0,0
END:VEVENT
END:VCALENDAR