BEGIN:VCALENDAR
VERSION:2.0
PRODID:-//wp-events-plugin.com//7.2.3.1//EN
BEGIN:VEVENT
UID:1189@randwijker.nl
DTSTART:20230208T190000Z
DTEND:20230208T230000Z
DTSTAMP:20220603T111434Z
URL:https://randwijker.nl/events/koor-van-alles-wat-18/
SUMMARY:KOOR VAN ALLES WAT
DESCRIPTION:
LOCATION:Kleine horecazaal\, De Haar\, Randwijk\, Nederland
X-APPLE-STRUCTURED-LOCATION;VALUE=URI;X-ADDRESS=De Haar\, Randwijk\, Nederl
 and;X-APPLE-RADIUS=100;X-TITLE=Kleine horecazaal:geo:0,0
END:VEVENT
END:VCALENDAR