BEGIN:VCALENDAR
VERSION:2.0
PRODID:-//wp-events-plugin.com//7.2.3.1//EN
BEGIN:VEVENT
UID:4203@randwijker.nl
DTSTART:20251219T190000Z
DTEND:20251219T231500Z
DTSTAMP:20250906T151528Z
URL:https://randwijker.nl/events/kerstschieten-treffers/
SUMMARY:Kerstschieten Treffers
DESCRIPTION:
LOCATION:Kleine horecazaal\, De Haar\, Randwijk\, Nederland
X-APPLE-STRUCTURED-LOCATION;VALUE=URI;X-ADDRESS=De Haar\, Randwijk\, Nederl
 and;X-APPLE-RADIUS=100;X-TITLE=Kleine horecazaal:geo:0,0
END:VEVENT
END:VCALENDAR