BEGIN:VCALENDAR
VERSION:2.0
PRODID:-//wp-events-plugin.com//7.2.3.1//EN
BEGIN:VEVENT
UID:59@randwijker.nl
DTSTART:20201031T200000Z
DTEND:20201031T000000Z
DTSTAMP:20200819T195701Z
URL:https://randwijker.nl/events/jongeren-disco-dj-gijp-2020-10-31/
SUMMARY:Jongeren Disco DJ Gijp
DESCRIPTION:
CATEGORIES:Openbare activiteiten
LOCATION:Kleine horecazaal\, De Haar\, Randwijk\, Nederland
X-APPLE-STRUCTURED-LOCATION;VALUE=URI;X-ADDRESS=De Haar\, Randwijk\, Nederl
 and;X-APPLE-RADIUS=100;X-TITLE=Kleine horecazaal:geo:0,0
END:VEVENT
END:VCALENDAR