BEGIN:VCALENDAR
VERSION:2.0
PRODID:-//wp-events-plugin.com//7.2.3.1//EN
BEGIN:VEVENT
UID:4145@randwijker.nl
DTSTART:20250625T193000Z
DTEND:20250625T213000Z
DTSTAMP:20250604T085459Z
URL:https://randwijker.nl/events/informatiebijeenkomst-n836-indoornik-veer
 -provincie-gelderland/
SUMMARY:Informatiebijeenkomst N836 Indoornik - Veer Provincie Gelderland
DESCRIPTION:
LOCATION:Grote horecazaal De Haar\, Bredeweg\, Randwijk\, 6668AS\, Nederlan
 d
X-APPLE-STRUCTURED-LOCATION;VALUE=URI;X-ADDRESS=Bredeweg\, Randwijk\, 6668A
 S\, Nederland;X-APPLE-RADIUS=100;X-TITLE=Grote horecazaal De Haar:geo:0,0
END:VEVENT
END:VCALENDAR