BEGIN:VCALENDAR
VERSION:2.0
PRODID:-//wp-events-plugin.com//7.2.3.1//EN
BEGIN:VEVENT
UID:2308@randwijker.nl
DTSTART:20231006T100000Z
DTEND:20231006T120000Z
DTSTAMP:20230924T084520Z
URL:https://randwijker.nl/events/huiskamer-van-randwijk-80/
SUMMARY:HUISKAMER VAN RANDWIJK
DESCRIPTION:
LOCATION:Kleine horecazaal\, De Haar\, Randwijk\, Nederland
X-APPLE-STRUCTURED-LOCATION;VALUE=URI;X-ADDRESS=De Haar\, Randwijk\, Nederl
 and;X-APPLE-RADIUS=100;X-TITLE=Kleine horecazaal:geo:0,0
END:VEVENT
END:VCALENDAR