BEGIN:VCALENDAR
VERSION:2.0
PRODID:-//wp-events-plugin.com//7.2.3.1//EN
BEGIN:VEVENT
UID:4206@randwijker.nl
DTSTART:20251121T200000Z
DTEND:20251121T220000Z
DTSTAMP:20250926T074853Z
URL:https://randwijker.nl/events/haarverzorgingsavond-groot-haarbreed/
SUMMARY:Groot Haarbreed
DESCRIPTION:
LOCATION:Grote horecazaal De Haar\, Bredeweg\, Randwijk\, 6668AS\, Nederlan
 d
X-APPLE-STRUCTURED-LOCATION;VALUE=URI;X-ADDRESS=Bredeweg\, Randwijk\, 6668A
 S\, Nederland;X-APPLE-RADIUS=100;X-TITLE=Grote horecazaal De Haar:geo:0,0
END:VEVENT
END:VCALENDAR