BEGIN:VCALENDAR
VERSION:2.0
PRODID:-//wp-events-plugin.com//7.2.3.1//EN
BEGIN:VEVENT
UID:2408@randwijker.nl
DTSTART:20231205T193000Z
DTEND:20231205T220000Z
DTSTAMP:20231129T172804Z
URL:https://randwijker.nl/events/frans-latuparesa-kamp-maluku/
SUMMARY:Frans Latuparesa\, kamp maluku
DESCRIPTION:
LOCATION:Vergaderruimte\, De Haar\, Randwijk\, Nederland
X-APPLE-STRUCTURED-LOCATION;VALUE=URI;X-ADDRESS=De Haar\, Randwijk\, Nederl
 and;X-APPLE-RADIUS=100;X-TITLE=Vergaderruimte:geo:0,0
END:VEVENT
END:VCALENDAR