BEGIN:VCALENDAR
VERSION:2.0
PRODID:-//wp-events-plugin.com//7.2.3.1//EN
BEGIN:VEVENT
UID:4195@randwijker.nl
DTSTART:20251021T193000Z
DTEND:20251021T220000Z
DTSTAMP:20250917T070138Z
URL:https://randwijker.nl/events/forte-welzijn-4/
SUMMARY:Forte Welzijn (vergaderkamer)
DESCRIPTION:
END:VEVENT
END:VCALENDAR