BEGIN:VCALENDAR
VERSION:2.0
PRODID:-//wp-events-plugin.com//7.2.3.1//EN
BEGIN:VEVENT
UID:3@randwijker.nl
DTSTART;TZID=Europe/Amsterdam:20200801T190000
DTEND;TZID=Europe/Amsterdam:20200801T223000
DTSTAMP:20200804T092010Z
URL:https://randwijker.nl/events/fijne-activiteit/
SUMMARY:Fijne activiteit
DESCRIPTION:						
ATTACH;FMTTYPE=image/jpeg:https://randwijker.nl/wp-content/uploads/2020/04
 /romeinse-rokjes-in-Randwijk.jpg
CATEGORIES:Openbare activiteiten
LOCATION:Kleine horecazaal\, De Haar\, Randwijk\, Nederland
X-APPLE-STRUCTURED-LOCATION;VALUE=URI;X-ADDRESS=De Haar\, Randwijk\, Nederl
 and;X-APPLE-RADIUS=100;X-TITLE=Kleine horecazaal:geo:0,0
END:VEVENT
BEGIN:VTIMEZONE
TZID:Europe/Amsterdam
X-LIC-LOCATION:Europe/Amsterdam
BEGIN:DAYLIGHT
DTSTART:20200329T030000
TZOFFSETFROM:+0100
TZOFFSETTO:+0200
TZNAME:CEST
END:DAYLIGHT
END:VTIMEZONE
END:VCALENDAR