BEGIN:VCALENDAR
VERSION:2.0
PRODID:-//wp-events-plugin.com//7.2.3.1//EN
BEGIN:VEVENT
UID:1193@randwijker.nl
DTSTART:20220608T193000Z
DTEND:20220608T213000Z
DTSTAMP:20220608T155957Z
URL:https://randwijker.nl/events/evaluatie-koningsdag/
SUMMARY:Evaluatie koningsdag
DESCRIPTION:
LOCATION:Vergaderruimte\, De Haar\, Randwijk\, Nederland
X-APPLE-STRUCTURED-LOCATION;VALUE=URI;X-ADDRESS=De Haar\, Randwijk\, Nederl
 and;X-APPLE-RADIUS=100;X-TITLE=Vergaderruimte:geo:0,0
END:VEVENT
END:VCALENDAR