BEGIN:VCALENDAR
VERSION:2.0
PRODID:-//wp-events-plugin.com//7.2.3.1//EN
BEGIN:VEVENT
UID:4262@randwijker.nl
DTSTART:20251217T200000Z
DTEND:20251217T230000Z
DTSTAMP:20250926T065357Z
URL:https://randwijker.nl/events/emm3-training-2025-10-01-2025-10-08-2025-
 10-15-2025-10-22-2025-10-29-2025-11-05-2025-11-12-2025-11-19-2025-11-26-20
 25-12-03-2025-12-10-2025-12-17/
SUMMARY:EMM3 training
DESCRIPTION:
END:VEVENT
END:VCALENDAR