BEGIN:VCALENDAR
VERSION:2.0
PRODID:-//wp-events-plugin.com//7.2.3.1//EN
BEGIN:VEVENT
UID:4290@randwijker.nl
DTSTART:20251104T200000Z
DTEND:20251104T230000Z
DTSTAMP:20250926T065603Z
URL:https://randwijker.nl/events/emm-veteranen-training-2025-09-30-2025-10
 -07-2025-10-14-2025-10-21-2025-10-28-2025-11-04/
SUMMARY:EMM Veteranen training
DESCRIPTION:
END:VEVENT
END:VCALENDAR