BEGIN:VCALENDAR
VERSION:2.0
PRODID:-//wp-events-plugin.com//7.2.3.1//EN
BEGIN:VEVENT
UID:4300@randwijker.nl
DTSTART:20260113T200000Z
DTEND:20260113T230000Z
DTSTAMP:20250926T065603Z
URL:https://randwijker.nl/events/emm-veteranen-training-2025-09-30-2025-10
 -07-2025-10-14-2025-10-21-2025-10-28-2025-11-04-2025-11-11-2025-11-18-2025
 -11-25-2025-12-02-2025-12-09-2025-12-16-2025-12-23-2025-12-30-2026-01-06-2
 026-01-13/
SUMMARY:EMM Veteranen training
DESCRIPTION:
END:VEVENT
END:VCALENDAR