BEGIN:VCALENDAR
VERSION:2.0
PRODID:-//wp-events-plugin.com//7.2.3.1//EN
BEGIN:VEVENT
UID:2868@randwijker.nl
DTSTART:20240620T193000Z
DTEND:20240620T213000Z
DTSTAMP:20240102T213609Z
URL:https://randwijker.nl/events/emm-training-jo11-23/
SUMMARY:EMM training jo11
DESCRIPTION:
END:VEVENT
END:VCALENDAR