BEGIN:VCALENDAR
VERSION:2.0
PRODID:-//wp-events-plugin.com//7.2.3.1//EN
BEGIN:VEVENT
UID:3655@randwijker.nl
DTSTART:20250521T183000Z
DTEND:20250521T193000Z
DTSTAMP:20241001T154330Z
URL:https://randwijker.nl/events/emm-jeugd-training-2025-05-21/
SUMMARY:EMM jeugd training
DESCRIPTION:
END:VEVENT
END:VCALENDAR