BEGIN:VCALENDAR
VERSION:2.0
PRODID:-//wp-events-plugin.com//7.2.3.1//EN
BEGIN:VEVENT
UID:4204@randwijker.nl
DTSTART:20250918T000000Z
DTEND:20250918T000000Z
DTSTAMP:20250913T112149Z
URL:https://randwijker.nl/events/emm-2-wedstrijd-avond/
SUMMARY:EMM 2 wedstrijd avond
DESCRIPTION:
END:VEVENT
END:VCALENDAR