BEGIN:VCALENDAR
VERSION:2.0
PRODID:-//wp-events-plugin.com//7.2.3.1//EN
BEGIN:VEVENT
UID:4717@randwijker.nl
DTSTART:20260503T130000Z
DTEND:20260503T173000Z
DTSTAMP:20251130T190734Z
URL:https://randwijker.nl/events/dick-van-altena-2/
SUMMARY:Dick van Altena
DESCRIPTION:
LOCATION:Grote horecazaal De Haar\, Bredeweg\, Randwijk\, 6668AS\, Nederlan
 d
X-APPLE-STRUCTURED-LOCATION;VALUE=URI;X-ADDRESS=Bredeweg\, Randwijk\, 6668A
 S\, Nederland;X-APPLE-RADIUS=100;X-TITLE=Grote horecazaal De Haar:geo:0,0
END:VEVENT
END:VCALENDAR