BEGIN:VCALENDAR
VERSION:2.0
PRODID:-//wp-events-plugin.com//7.2.3.1//EN
BEGIN:VEVENT
UID:221@randwijker.nl
DTSTART:20210717T093000Z
DTEND:20210717T120000Z
DTSTAMP:20200819T211600Z
URL:https://randwijker.nl/events/brood-eieren-verkoop-2021-07-17/
SUMMARY:Brood & Eieren verkoop
DESCRIPTION:
ATTACH;FMTTYPE=image/jpeg:https://randwijker.nl/wp-content/uploads/2020/01
 /bakker-Randwijks-Hof.jpg
CATEGORIES:brood &amp; eieren verkoop,Openbare activiteiten
LOCATION:Kleine horecazaal\, De Haar\, Randwijk\, Nederland
X-APPLE-STRUCTURED-LOCATION;VALUE=URI;X-ADDRESS=De Haar\, Randwijk\, Nederl
 and;X-APPLE-RADIUS=100;X-TITLE=Kleine horecazaal:geo:0,0
END:VEVENT
END:VCALENDAR