BEGIN:VCALENDAR
VERSION:2.0
PRODID:-//wp-events-plugin.com//7.2.3.1//EN
BEGIN:VEVENT
UID:4184@randwijker.nl
DTSTART:20250922T090000Z
DTEND:20250922T123000Z
DTSTAMP:20250722T103328Z
URL:https://randwijker.nl/events/bijeenkomst-woningstichting/
SUMMARY:Bijeenkomst woningstichting
DESCRIPTION:
LOCATION:Kleine horecazaal\, De Haar\, Randwijk\, Nederland
X-APPLE-STRUCTURED-LOCATION;VALUE=URI;X-ADDRESS=De Haar\, Randwijk\, Nederl
 and;X-APPLE-RADIUS=100;X-TITLE=Kleine horecazaal:geo:0,0
END:VEVENT
END:VCALENDAR