BEGIN:VCALENDAR
VERSION:2.0
PRODID:-//wp-events-plugin.com//7.2.3.1//EN
BEGIN:VEVENT
UID:322@randwijker.nl
DTSTART:20211018T130000Z
DTEND:20211018T150000Z
DTSTAMP:20210830T195546Z
URL:https://randwijker.nl/events/beweeggeniet-7/
SUMMARY:BEWEEGGENIET
DESCRIPTION:
LOCATION:Kleine horecazaal\, De Haar\, Randwijk\, Nederland
X-APPLE-STRUCTURED-LOCATION;VALUE=URI;X-ADDRESS=De Haar\, Randwijk\, Nederl
 and;X-APPLE-RADIUS=100;X-TITLE=Kleine horecazaal:geo:0,0
END:VEVENT
END:VCALENDAR